BEGIN:VCALENDAR
VERSION:2.0
PRODID:-//Centre français de fiabilité - ECPv6.15.17.1//NONSGML v1.0//EN
CALSCALE:GREGORIAN
METHOD:PUBLISH
X-WR-CALNAME:Centre français de fiabilité
X-ORIGINAL-URL:https://www.cff-fiabilite.fr
X-WR-CALDESC:Évènements pour Centre français de fiabilité
REFRESH-INTERVAL;VALUE=DURATION:PT1H
X-Robots-Tag:noindex
X-PUBLISHED-TTL:PT1H
BEGIN:VTIMEZONE
TZID:Europe/Paris
BEGIN:DAYLIGHT
TZOFFSETFROM:+0100
TZOFFSETTO:+0200
TZNAME:CEST
DTSTART:20250330T010000
END:DAYLIGHT
BEGIN:STANDARD
TZOFFSETFROM:+0200
TZOFFSETTO:+0100
TZNAME:CET
DTSTART:20251026T010000
END:STANDARD
BEGIN:DAYLIGHT
TZOFFSETFROM:+0100
TZOFFSETTO:+0200
TZNAME:CEST
DTSTART:20260329T010000
END:DAYLIGHT
BEGIN:STANDARD
TZOFFSETFROM:+0200
TZOFFSETTO:+0100
TZNAME:CET
DTSTART:20261025T010000
END:STANDARD
BEGIN:DAYLIGHT
TZOFFSETFROM:+0100
TZOFFSETTO:+0200
TZNAME:CEST
DTSTART:20270328T010000
END:DAYLIGHT
BEGIN:STANDARD
TZOFFSETFROM:+0200
TZOFFSETTO:+0100
TZNAME:CET
DTSTART:20271031T010000
END:STANDARD
END:VTIMEZONE
BEGIN:VEVENT
DTSTART;VALUE=DATE:20261126
DTEND;VALUE=DATE:20261127
DTSTAMP:20260419T184310
CREATED:20250814T103914Z
LAST-MODIFIED:20250822T145850Z
UID:4767-1795651200-1795737599@www.cff-fiabilite.fr
SUMMARY:IMAPS – POWER
DESCRIPTION:Following the success of the Power Electronics Workshop organized over the past 15 years in partnership with GREMAN (UMR 7347) and Polytech-Tours\, sponsored by ST-Microelectronics\, CERTeM and Polytech Tours\, IMAPS-France proudly announces the 16th edition of the Power Electronics and Packaging Technical Workshop to be held in Tours\, France on Thursday\, November 26th\, 2026. The city of Tours is located along the scenic Loire Valley which is famous for its castles built along the river. The event will be held in English. Please\, save the date!! \nThe conference will cover the following topics: \n\nPower management for transportation and industrial systems\nEnergy harvesting systems\, from nano to macro (smart grid\, wind energy\, photovoltaic\, etc…)\nEnergy conversion systems– from power to emission (lighting\, ultrasonic\, infrared\, etc…)
URL:https://www.cff-fiabilite.fr/evenements/4767/
LOCATION:GREMAN\, 7 avenue Marcel DASSAULT\, TOURS\, 37200
CATEGORIES:relayé par le CFF
ATTACH;FMTTYPE=image/png:https://www.cff-fiabilite.fr/wp-content/uploads/sites/12/2024/06/IMAPS-logo-web.png
ORGANIZER;CN="IMAPS":MAILTO:imaps.france@orange.fr
END:VEVENT
END:VCALENDAR