BEGIN:VCALENDAR
VERSION:2.0
PRODID:-//Centre français de fiabilité - ECPv6.15.17.1//NONSGML v1.0//EN
CALSCALE:GREGORIAN
METHOD:PUBLISH
X-ORIGINAL-URL:https://www.cff-fiabilite.fr
X-WR-CALDESC:Évènements pour Centre français de fiabilité
REFRESH-INTERVAL;VALUE=DURATION:PT1H
X-Robots-Tag:noindex
X-PUBLISHED-TTL:PT1H
BEGIN:VTIMEZONE
TZID:Europe/Paris
BEGIN:DAYLIGHT
TZOFFSETFROM:+0100
TZOFFSETTO:+0200
TZNAME:CEST
DTSTART:20240331T010000
END:DAYLIGHT
BEGIN:STANDARD
TZOFFSETFROM:+0200
TZOFFSETTO:+0100
TZNAME:CET
DTSTART:20241027T010000
END:STANDARD
BEGIN:DAYLIGHT
TZOFFSETFROM:+0100
TZOFFSETTO:+0200
TZNAME:CEST
DTSTART:20250330T010000
END:DAYLIGHT
BEGIN:STANDARD
TZOFFSETFROM:+0200
TZOFFSETTO:+0100
TZNAME:CET
DTSTART:20251026T010000
END:STANDARD
BEGIN:DAYLIGHT
TZOFFSETFROM:+0100
TZOFFSETTO:+0200
TZNAME:CEST
DTSTART:20260329T010000
END:DAYLIGHT
BEGIN:STANDARD
TZOFFSETFROM:+0200
TZOFFSETTO:+0100
TZNAME:CET
DTSTART:20261025T010000
END:STANDARD
END:VTIMEZONE
BEGIN:VEVENT
DTSTART;VALUE=DATE:20251202
DTEND;VALUE=DATE:20251203
DTSTAMP:20260419T202318
CREATED:20250814T101523Z
LAST-MODIFIED:20250814T101523Z
UID:4754-1764633600-1764719999@www.cff-fiabilite.fr
SUMMARY:Journée Technique IEEE
DESCRIPTION:Journée Technique IEEE : Fiabilité des systèmes et des composants électroniques \norganisé par IEEE France Section (Electronics Packaging Society) \nsur le site de SLB – Clamart \nParticipation gratuite sur inscription auprès de wilson.maia@ieee.org \n 
URL:https://www.cff-fiabilite.fr/evenements/journee-technique-ieee-2/
LOCATION:Clamart\, France\, 1 rue Henri Becquerel\, Clamart\, 92140\, France
CATEGORIES:relayé par le CFF
ATTACH;FMTTYPE=image/png:https://www.cff-fiabilite.fr/wp-content/uploads/sites/12/2024/06/ieeefrance-web.png
END:VEVENT
BEGIN:VEVENT
DTSTART;TZID=Europe/Paris:20251202T080000
DTEND;TZID=Europe/Paris:20251202T170000
DTSTAMP:20260419T202318
CREATED:20251112T135026Z
LAST-MODIFIED:20251112T135026Z
UID:5027-1764662400-1764694800@www.cff-fiabilite.fr
SUMMARY:Journée RTN du CNES : l’intelligence artificielle au service du spatial
DESCRIPTION:Les Rencontres Techniques et Numériques sont le rendez-vous incontournable des professionnels (start-ups\, industriels\, académiques\, institutionnels) pour échanger sur les enjeux et orientations techniques du spatial. \nMme Marie-Anne Clair\, Directrice Technique et Numérique du CNES\, vous invite à une journée illustrant les différentes activités menées par le CNES en lien étroit avec l’écosystème spatial français. \nVenez retrouver les experts du CNES\, de l’industrie et du monde académique autour de présentations plénières\, de zones interactives alimentées par différents métiers et techniques\, adressant une grande diversité de sujets : des matériaux aux simulateurs\, des architectures système aux traitements de données aval\, des composants aux opérations\, des lanceurs aux systèmes orbitaux… \nCette année\, les Rencontres Techniques et Numériques mettent l’accent sur l’intelligence artificielle au service du spatial. \nNous accueillerons Sophie Proust de l’INRIA\, Directrice Executive de l’Agence de programmes « Numérique ». Elle nous présentera les actions en cours et la feuille de route de l’Agence. \nPour participer vous devez faire une demande d’inscription via le lien ci-dessous. Un email de confirmation vous sera envoyé une fois votre inscription validée. Le comité se réserve le droit de refuser votre participation. \nInfos pratiques\nMardi 2 décembre 2025\, de 8h à 17h30 \nCentre de Congrès Pierre Baudis\n11 Esplanade Compans Cafarelli\n31000 Toulouse \nVoir sur Google Maps \nLe Centre de Congrès Pierre Baudis est situé en centre-ville\, en bordure du parc Compans-Caffarelli. Il est situé à 15 min de l’aéroport\, à 10 min à pied de la place du Capitole et à proximité des principaux commerces. \nAccès : \n\nMétro : ligne B – arrêt Compans Caffarelli\nBus : les lignes 31\, 45\, 63\, L1 et la navette aéroport s’arrêtent à proximité du Centre de Congrès\nParking souterrain Compans Caffarelli
URL:https://www.cff-fiabilite.fr/evenements/journee-rtn-du-cnes-lintelligence-artificielle-au-service-du-spatial/
LOCATION:Toulouse\, Toulouse
CATEGORIES:relayé par le CFF
END:VEVENT
BEGIN:VEVENT
DTSTART;VALUE=DATE:20251211
DTEND;VALUE=DATE:20251213
DTSTAMP:20260419T202318
CREATED:20250912T144312Z
LAST-MODIFIED:20250912T144312Z
UID:4782-1765411200-1765583999@www.cff-fiabilite.fr
SUMMARY:CARAC
DESCRIPTION:Celebrating 10 years of PAC-G Platform for Advanced Characterisation Grenoble\, this two day annual event brings together industry and research around #characterization and #reliability for #microelectronics showcasing the unique capabilities of large-scale research facilities.\n\n\n\n\n\n\n\n\n✨ Join us for:\n✔ Inspiring keynote talks\n✔ Technical Sessions\n✔ Panels\, exhibits\, facility tours and networking opportunities \nExpect engaging talks\, new collaborations\, insightful results and exposure to cutting-edge tools (X-rays and neutrons).\nMark your calendar for 11th & 12th December 2025 & stay tuned for registration details coming soon!
URL:https://www.cff-fiabilite.fr/evenements/carac/
CATEGORIES:relayé par le CFF
ATTACH;FMTTYPE=image/jpeg:https://www.cff-fiabilite.fr/wp-content/uploads/sites/12/2025/09/CARAC-2025_email-banner_Save-the-date-1050-x-298-px1.jpg
END:VEVENT
BEGIN:VEVENT
DTSTART;VALUE=DATE:20251216
DTEND;VALUE=DATE:20251217
DTSTAMP:20260419T202318
CREATED:20251006T192632Z
LAST-MODIFIED:20251006T193204Z
UID:5014-1765843200-1765929599@www.cff-fiabilite.fr
SUMMARY:Symposium END'25
DESCRIPTION:2e Symposium pour l’Electronique et le Numérique Durables\n\nOrganisé par Nanoelec\, PUI Grenoble-Alpes\, Labex Microélectronique UGA et PEPR Electronique. \nL’électronique et le numérique de demain doivent impérativement se diriger vers une durabilité accrue\, dans le respect des limites environnementales et du plancher sociétal. \nPour y parvenir\, il est crucial de repenser la chaîne de valeur dans son intégralité. \nL’ambition est de faire émerger une communauté scientifique centrée sur le thème de l’électronique et du numérique durables. Nous misons sur une participation accrue de scientifiques académiques et industriels en provenance de toute la France\, ainsi que de Belgique\, de Suisse et du Québec ; un accent sera mis sur les attentes sur le sujet des entreprises du territoire régional\, en coordination étroite avec le PUI Grenoble-Alpes. \n\n\n\n\n\nLes scientifiques\, chercheurs\, ingénieures ou industriels de tous domaines confondus sont appelés à proposer des contributions qui mettent en avant leurs plus récentes avancées en matière d’outils\, de méthodologie\, de démonstrateurs sur la thématique.
URL:https://www.cff-fiabilite.fr/evenements/symposium-end25/
LOCATION:GRENOBLE\, Grenoble\, France
CATEGORIES:relayé par le CFF
END:VEVENT
END:VCALENDAR