BEGIN:VCALENDAR
VERSION:2.0
PRODID:-//Centre français de fiabilité - ECPv6.15.17.1//NONSGML v1.0//EN
CALSCALE:GREGORIAN
METHOD:PUBLISH
X-WR-CALNAME:Centre français de fiabilité
X-ORIGINAL-URL:https://www.cff-fiabilite.fr
X-WR-CALDESC:Évènements pour Centre français de fiabilité
REFRESH-INTERVAL;VALUE=DURATION:PT1H
X-Robots-Tag:noindex
X-PUBLISHED-TTL:PT1H
BEGIN:VTIMEZONE
TZID:Europe/Paris
BEGIN:DAYLIGHT
TZOFFSETFROM:+0100
TZOFFSETTO:+0200
TZNAME:CEST
DTSTART:20240331T010000
END:DAYLIGHT
BEGIN:STANDARD
TZOFFSETFROM:+0200
TZOFFSETTO:+0100
TZNAME:CET
DTSTART:20241027T010000
END:STANDARD
BEGIN:DAYLIGHT
TZOFFSETFROM:+0100
TZOFFSETTO:+0200
TZNAME:CEST
DTSTART:20250330T010000
END:DAYLIGHT
BEGIN:STANDARD
TZOFFSETFROM:+0200
TZOFFSETTO:+0100
TZNAME:CET
DTSTART:20251026T010000
END:STANDARD
BEGIN:DAYLIGHT
TZOFFSETFROM:+0100
TZOFFSETTO:+0200
TZNAME:CEST
DTSTART:20260329T010000
END:DAYLIGHT
BEGIN:STANDARD
TZOFFSETFROM:+0200
TZOFFSETTO:+0100
TZNAME:CET
DTSTART:20261025T010000
END:STANDARD
END:VTIMEZONE
BEGIN:VEVENT
DTSTART;VALUE=DATE:20250916
DTEND;VALUE=DATE:20250919
DTSTAMP:20260420T010446
CREATED:20230517T130535Z
LAST-MODIFIED:20240904T081543Z
UID:3692-1757980800-1758239999@www.cff-fiabilite.fr
SUMMARY:IMAPS - EMPC2025 - Grenoble
DESCRIPTION:La conférence européenne sur la microélectronique et l’emballage (EMPC 2025) est la première conférence internationale sur l’emballage microélectronique\, détenue et sponsorisée par IMAPS-Europe et co-sponsorisée par IEEE-EPS. \nLe programme de la conférence sera axé sur les besoins et les tendances de l’industrie ainsi que sur les solutions académiques à long terme. L’événement réunira des chercheurs\, des innovateurs\, des technologues\, des responsables commerciaux et marketing intéressés par le packaging des semi-conducteurs. \n\n\nCo-parrainé par
URL:https://www.cff-fiabilite.fr/evenements/imaps-empc2025/
LOCATION:Centre de congrès du WTC Grenoble\, 5 - 7\, place Robert Schuman\, Grenoble\, 38000
CATEGORIES:relayé par le CFF
ATTACH;FMTTYPE=image/png:https://www.cff-fiabilite.fr/wp-content/uploads/sites/12/2024/06/IMAPS-logo-web.png
ORGANIZER;CN="IMAPS":MAILTO:imaps.france@orange.fr
END:VEVENT
BEGIN:VEVENT
DTSTART;VALUE=DATE:20250929
DTEND;VALUE=DATE:20251004
DTSTAMP:20260420T010446
CREATED:20250814T095401Z
LAST-MODIFIED:20250814T095401Z
UID:4748-1759104000-1759535999@www.cff-fiabilite.fr
SUMMARY:RADECS 2025
DESCRIPTION:RADiation and its Effects on Components and Systems
URL:https://www.cff-fiabilite.fr/evenements/radecs-2025/
LOCATION:Anvers (Belgique)
CATEGORIES:relayé par le CFF
END:VEVENT
END:VCALENDAR