BEGIN:VCALENDAR
VERSION:2.0
PRODID:-//Centre français de fiabilité - ECPv6.15.17.1//NONSGML v1.0//EN
CALSCALE:GREGORIAN
METHOD:PUBLISH
X-ORIGINAL-URL:https://www.cff-fiabilite.fr
X-WR-CALDESC:Évènements pour Centre français de fiabilité
REFRESH-INTERVAL;VALUE=DURATION:PT1H
X-Robots-Tag:noindex
X-PUBLISHED-TTL:PT1H
BEGIN:VTIMEZONE
TZID:Europe/Paris
BEGIN:DAYLIGHT
TZOFFSETFROM:+0100
TZOFFSETTO:+0200
TZNAME:CEST
DTSTART:20240331T010000
END:DAYLIGHT
BEGIN:STANDARD
TZOFFSETFROM:+0200
TZOFFSETTO:+0100
TZNAME:CET
DTSTART:20241027T010000
END:STANDARD
BEGIN:DAYLIGHT
TZOFFSETFROM:+0100
TZOFFSETTO:+0200
TZNAME:CEST
DTSTART:20250330T010000
END:DAYLIGHT
BEGIN:STANDARD
TZOFFSETFROM:+0200
TZOFFSETTO:+0100
TZNAME:CET
DTSTART:20251026T010000
END:STANDARD
BEGIN:DAYLIGHT
TZOFFSETFROM:+0100
TZOFFSETTO:+0200
TZNAME:CEST
DTSTART:20260329T010000
END:DAYLIGHT
BEGIN:STANDARD
TZOFFSETFROM:+0200
TZOFFSETTO:+0100
TZNAME:CET
DTSTART:20261025T010000
END:STANDARD
END:VTIMEZONE
BEGIN:VEVENT
DTSTART;TZID=Europe/Paris:20250630T080000
DTEND;TZID=Europe/Paris:20250704T170000
DTSTAMP:20260420T053159
CREATED:20250414T214132Z
LAST-MODIFIED:20250414T214132Z
UID:4709-1751270400-1751648400@www.cff-fiabilite.fr
SUMMARY:THERMEC 2025
DESCRIPTION:Cet événement réunira des professionnels de divers secteurs pour présenter leurs recherches sur le traitement\, la fabrication et les applications des matériaux avancés. \nTHERMEC’2025 marque la treizième édition de cette prestigieuse série de conférences internationales sur les matériaux avancés. S’appuyant sur le succès et l’héritage de ses douze prédécesseurs – Japon (1988)\, Australie (1997)\, États-Unis (2000)\, Espagne (2003)\, Vancouver-Canada (2006)\, Allemagne (2009)\, Canada (2011)\, États-Unis (2013)\, Autriche (2016)\, France (2018)\, une conférence virtuelle en juin 2021 et Autriche (2023) – THERMEC continue de défendre ses principes fondateurs. \n\n\n\nLa conférence THERMEC constitue une plateforme incontournable\, réunissant des professionnels\, notamment des ingénieurs\, des technologues et des chercheurs issus de l’industrie\, du monde universitaire et de laboratoires de recherche gouvernementaux de divers pays tels que l’Europe\, les États-Unis\, le Canada\, le Japon\, la République de Corée\, la République populaire de Chine\, l’Inde\, le Brésil\, l’Asie du Sud-Est et la Russie. Cette conférence facilite la présentation de leurs découvertes scientifiques dans le domaine global des sciences et technologies\, englobant le traitement\, la fabrication et la production de matériaux avancés. \nLa conférence couvrira tous les aspects du traitement\, de la fabrication\, de l’évaluation de la structure/des propriétés et des applications des  matériaux ferreux et non ferreux \, des composites\, y compris les biomatériaux\, des matériaux à haute température\,  des piles à combustible/technologies de stockage d’hydrogène \, des batteries\,  des supercondensateurs \, des matériaux thermoélectriques\,  des nanomatériaux pour  les applications énergétiques et structurelles\, des matériaux métalliques structurels aérospatiaux\, des verres métalliques en vrac \,  de l’UFGM\,  du TMP des matériaux  de fission  (gaine de combustible \,  structurel ) \,  des alliages à haute entropie\,  des matériaux et technologies dans les réacteurs à fusion \,  de la fabrication additive\, des matériaux intelligents/intelligents  \, de la modélisation  et  de la simulation\, du soudage/assemblage – FSW – P \, des interfaces/ limites de grains  et  des études de rayons X par diffusion de neutrons  et des  performances des  matériaux avancés. \n\n\n\n 
URL:https://www.cff-fiabilite.fr/evenements/thermec-2025/
LOCATION:Université de Tours\, 31 Av. Monge\, Tours\, 37200\, France
CATEGORIES:relayé par le CFF
END:VEVENT
END:VCALENDAR