BEGIN:VCALENDAR
VERSION:2.0
PRODID:-//Centre français de fiabilité - ECPv6.15.17.1//NONSGML v1.0//EN
CALSCALE:GREGORIAN
METHOD:PUBLISH
X-WR-CALNAME:Centre français de fiabilité
X-ORIGINAL-URL:https://www.cff-fiabilite.fr
X-WR-CALDESC:Évènements pour Centre français de fiabilité
REFRESH-INTERVAL;VALUE=DURATION:PT1H
X-Robots-Tag:noindex
X-PUBLISHED-TTL:PT1H
BEGIN:VTIMEZONE
TZID:Europe/Paris
BEGIN:DAYLIGHT
TZOFFSETFROM:+0100
TZOFFSETTO:+0200
TZNAME:CEST
DTSTART:20240331T010000
END:DAYLIGHT
BEGIN:STANDARD
TZOFFSETFROM:+0200
TZOFFSETTO:+0100
TZNAME:CET
DTSTART:20241027T010000
END:STANDARD
BEGIN:DAYLIGHT
TZOFFSETFROM:+0100
TZOFFSETTO:+0200
TZNAME:CEST
DTSTART:20250330T010000
END:DAYLIGHT
BEGIN:STANDARD
TZOFFSETFROM:+0200
TZOFFSETTO:+0100
TZNAME:CET
DTSTART:20251026T010000
END:STANDARD
BEGIN:DAYLIGHT
TZOFFSETFROM:+0100
TZOFFSETTO:+0200
TZNAME:CEST
DTSTART:20260329T010000
END:DAYLIGHT
BEGIN:STANDARD
TZOFFSETFROM:+0200
TZOFFSETTO:+0100
TZNAME:CET
DTSTART:20261025T010000
END:STANDARD
END:VTIMEZONE
BEGIN:VEVENT
DTSTART;TZID=Europe/Paris:20250513T083000
DTEND;TZID=Europe/Paris:20250513T140000
DTSTAMP:20260420T065725
CREATED:20250414T213004Z
LAST-MODIFIED:20250414T213004Z
UID:4703-1747125000-1747144800@www.cff-fiabilite.fr
SUMMARY:Journée Technique de l’Électronique  - ACSIEL
DESCRIPTION:La Journée Technique de l’Electronique est devenue\, au fil des ans\, l’événement incontournable des acteurs clés de la chaîne de valeur de l’électronique\, organisé par ACSIEL Aliance Electronique en partenariat avec VIPress. C’est une plateforme unique pour l’échange de connaissances et de perspectives entre les professionnels du secteur. \nPour l’édition 2025\, le thème retenu est “L’Électronique\, accélérateur de la sécurité des biens\, des personnes et des territoires”. Ce thème\, Ô combien\, d’actualité et fédérateur\, mettra en lumière les enjeux cruciaux et les opportunités offertes par les avancées technologiques en matière de sécurité.
URL:https://www.cff-fiabilite.fr/evenements/journee-technique-de-lelectronique-acsiel-2/
LOCATION:Espace Saint Martin\, 199bis Rue Saint-Martin\, Paris\, 75003\, France
CATEGORIES:relayé par le CFF
ATTACH;FMTTYPE=image/jpeg:https://www.cff-fiabilite.fr/wp-content/uploads/sites/12/2020/10/acsiel.jpg
ORGANIZER;CN="ACSIEL":MAILTO:communication@acsiel.fr
END:VEVENT
END:VCALENDAR