BEGIN:VCALENDAR
VERSION:2.0
PRODID:-//Centre français de fiabilité - ECPv6.15.17.1//NONSGML v1.0//EN
CALSCALE:GREGORIAN
METHOD:PUBLISH
X-ORIGINAL-URL:https://www.cff-fiabilite.fr
X-WR-CALDESC:Évènements pour Centre français de fiabilité
REFRESH-INTERVAL;VALUE=DURATION:PT1H
X-Robots-Tag:noindex
X-PUBLISHED-TTL:PT1H
BEGIN:VTIMEZONE
TZID:Europe/Paris
BEGIN:DAYLIGHT
TZOFFSETFROM:+0100
TZOFFSETTO:+0200
TZNAME:CEST
DTSTART:20240331T010000
END:DAYLIGHT
BEGIN:STANDARD
TZOFFSETFROM:+0200
TZOFFSETTO:+0100
TZNAME:CET
DTSTART:20241027T010000
END:STANDARD
BEGIN:DAYLIGHT
TZOFFSETFROM:+0100
TZOFFSETTO:+0200
TZNAME:CEST
DTSTART:20250330T010000
END:DAYLIGHT
BEGIN:STANDARD
TZOFFSETFROM:+0200
TZOFFSETTO:+0100
TZNAME:CET
DTSTART:20251026T010000
END:STANDARD
BEGIN:DAYLIGHT
TZOFFSETFROM:+0100
TZOFFSETTO:+0200
TZNAME:CEST
DTSTART:20260329T010000
END:DAYLIGHT
BEGIN:STANDARD
TZOFFSETFROM:+0200
TZOFFSETTO:+0100
TZNAME:CET
DTSTART:20261025T010000
END:STANDARD
END:VTIMEZONE
BEGIN:VEVENT
DTSTART;TZID=Europe/Paris:20250116T090000
DTEND;TZID=Europe/Paris:20250116T170000
DTSTAMP:20260420T124012
CREATED:20241120T183805Z
LAST-MODIFIED:20241120T184048Z
UID:4370-1737018000-1737046800@www.cff-fiabilite.fr
SUMMARY:Photonique et télécommunications : innovations et perspectives
DESCRIPTION:Télécom Paris et le CNRS vous invitent à participer à une journée consacrée à la photonique et aux télécommunications. \nAu programme : \n\n\n\n10 conférences proposées par des chercheurs et des industriels du domaine : ces conférences aborderont les dernières avancées et innovations dans les domaines de la photonique pour les télécommunications.\nPrésentation de start-up : découvrez les jeunes entreprises innovantes qui révolutionnent les technologies et apportent des solutions novatrices.\nSessions de réseautage : profitez de moments dédiés aux échanges pour rencontrer et discuter avec des professionnels du secteur\, des chercheurs et des entrepreneurs\, et découvrir de nouvelles opportunités de collaboration et de partenariats.
URL:https://www.cff-fiabilite.fr/evenements/photonique-et-telecommunications-innovations-et-perspectives/
LOCATION:Telecom Paris\, 19 place Marguerite Perey\, Palaiseau\, 91120\, France
CATEGORIES:relayé par le CFF
ATTACH;FMTTYPE=image/png:https://www.cff-fiabilite.fr/wp-content/uploads/sites/12/2024/11/CNRS.png
ORGANIZER;CN="CNRS":MAILTO:pascal.nivesse@cnrs.fr
END:VEVENT
BEGIN:VEVENT
DTSTART;TZID=Europe/Paris:20250130T083000
DTEND;TZID=Europe/Paris:20250130T140000
DTSTAMP:20260420T124012
CREATED:20241113T220814Z
LAST-MODIFIED:20241113T220814Z
UID:4359-1738225800-1738245600@www.cff-fiabilite.fr
SUMMARY:Journée Technique de l’Électronique  - ACSIEL
DESCRIPTION:L’Électronique\, accélérateur de la sécurité des biens\, des personnes et des territoires \nLa Journée Technique de l’Electronique est devenue\, au fil des ans\, l’événement incontournable des acteurs clés de la chaîne de valeur de l’électronique\, organisé par ACSIEL Aliance Electronique en partenariat avec VIPress. C’est une plateforme unique pour l’échange de connaissances et de perspectives entre les professionnels du secteur. \nPour l’édition 2025\, le thème retenu est “L’Électronique\, accélérateur de la sécurité des biens\, des personnes et des territoires”. Ce thème\, Ô combien\, d’actualité et fédérateur\, mettra en lumière les enjeux cruciaux et les opportunités offertes par les avancées technologiques en matière de sécurité. \nLe thème retenu pour cette édition 2025 de la JTE réunira\, autour des électroniciens\, les acteurs clés de la filière aval pour une journée de réflexion sur les enjeux critiques de sécurité et les réponses innovantes que les technologies électroniques peuvent apporter. \n\nSécurité des biens et alimentaire\, dans un monde de plus en plus connecté et face une démographie galopante ;\nSécurité médicale et paramédicale\, pour accéder à un système de soins efficace ;\nSécurité électrique\, pour la prévention des risques\, des accidents et des incendies dans les réseaux électriques ;\nSurveillance des territoires\, pour une gestion de la sécurité publique et une prévention des risques naturels ;\n\n6 domaines dont développements et innovations seront au cœur de la Journée Technique de l’Électronique 2025. \nLes experts des plus grands équipementiers\, les électroniciens et les industries françaises\, européennes et internationales échangeront autour de nos désormais 2 célèbres tables rondes : \n✅ Sécurité : les enjeux et la feuille de route technologique des industriels\n✅ Les solutions des électroniciens \nEt de\n✅ Notre espace “exposants” convial\, ouvert au réseautage \nProgramme et tarif : voir https://evenium.events/journee-technique-de-l-electronique-jte-2025 \n 
URL:https://www.cff-fiabilite.fr/evenements/journee-technique-de-lelectronique-acsiel/
CATEGORIES:relayé par le CFF
ORGANIZER;CN="ACSIEL":MAILTO:communication@acsiel.fr
END:VEVENT
END:VCALENDAR