BEGIN:VCALENDAR
VERSION:2.0
PRODID:-//Centre français de fiabilité - ECPv6.15.17.1//NONSGML v1.0//EN
CALSCALE:GREGORIAN
METHOD:PUBLISH
X-WR-CALNAME:Centre français de fiabilité
X-ORIGINAL-URL:https://www.cff-fiabilite.fr
X-WR-CALDESC:Évènements pour Centre français de fiabilité
REFRESH-INTERVAL;VALUE=DURATION:PT1H
X-Robots-Tag:noindex
X-PUBLISHED-TTL:PT1H
BEGIN:VTIMEZONE
TZID:Europe/Paris
BEGIN:DAYLIGHT
TZOFFSETFROM:+0100
TZOFFSETTO:+0200
TZNAME:CEST
DTSTART:20230326T010000
END:DAYLIGHT
BEGIN:STANDARD
TZOFFSETFROM:+0200
TZOFFSETTO:+0100
TZNAME:CET
DTSTART:20231029T010000
END:STANDARD
BEGIN:DAYLIGHT
TZOFFSETFROM:+0100
TZOFFSETTO:+0200
TZNAME:CEST
DTSTART:20240331T010000
END:DAYLIGHT
BEGIN:STANDARD
TZOFFSETFROM:+0200
TZOFFSETTO:+0100
TZNAME:CET
DTSTART:20241027T010000
END:STANDARD
BEGIN:DAYLIGHT
TZOFFSETFROM:+0100
TZOFFSETTO:+0200
TZNAME:CEST
DTSTART:20250330T010000
END:DAYLIGHT
BEGIN:STANDARD
TZOFFSETFROM:+0200
TZOFFSETTO:+0100
TZNAME:CET
DTSTART:20251026T010000
END:STANDARD
END:VTIMEZONE
BEGIN:VEVENT
DTSTART;TZID=Europe/Paris:20241014T080000
DTEND;TZID=Europe/Paris:20241017T170000
DTSTAMP:20260420T170553
CREATED:20231204T143228Z
LAST-MODIFIED:20231204T143228Z
UID:3944-1728892800-1729184400@www.cff-fiabilite.fr
SUMMARY:24e éd. du congrès λμ (Lambda Mu)
DESCRIPTION:Le congrès λμ (Lambda Mu)\, événement international francophone dédié à la maîtrise des risques et à la sûreté de fonctionnement organisé par l’Institut de Maîtrise des Risques revient en 2024 pour sa 24e édition :  \n\n\ndu 14 au 17 octobre 2024 à l’INSA de Bourges sur le thème :\n“Les métiers du risque : clés de la réindustrialisation et de la transition écologique”\nLe congrès λμ : le plus grand rendez-vous de la maîtrise des risques.\nLe congrès λμ1 s’est tenu à Paris en 1978 dans les locaux de l’Unesco. Organisés à l’origine par le CEA\, le CNES et le CNET\, les congrès sont confiés\, à partir de 1998\, à l’ISdF qui devient en 2002 Institut pour la Maîtrise des Risques (IMdR). Il s’adresse à tous les industriels\, aux entités de recherche tant fondamentale que technologique\, aux donneurs d’ordres tant privés que publics\, aux startups\, aux universitaires et aux étudiants de masters etc. \nL’IMdR organise tous les deux ans un congrès dans une ville de province avec un thème général reflétant un grand thème d’actualité à la date du congrès (énergies\, transports\, chimie\, digital\, pétrochimie\, agroalimentaire\, aérospatial\, télécommunications\, santé\, défense …) \nCes congrès réunissent près de 500 personnes pendant 3 jours. En dehors des sessions plénières (ouverture\, conférences invitées\, table ronde\, clôture)\, près de 180 communications sont présentées sur trois jours\, en cinq sessions parallèles et au cours d’ateliers interactifs. Les meilleures communications sont primées. \nLe congrès λμ24 vise à faire se rencontrer chercheurs et professionnels de la gestion des risques et de la sureté de fonctionnement\, pour partager ensemble pratiques et recherches innovantes\, échanger des expériences\, et créer de nouveaux projets et collaborations. \n\n\n\n\nλ = symbole de la fiabilité\nμ = symbole de la maintenabilité
URL:https://www.cff-fiabilite.fr/evenements/24e-ed-du-congres-%ce%bb%ce%bc-lambda-mu/
LOCATION:INSA de Bourges\, 88 Bd Lahitolle\, Bourges\, 18000\, France
CATEGORIES:relayé par le CFF
END:VEVENT
END:VCALENDAR