BEGIN:VCALENDAR
VERSION:2.0
PRODID:-//Centre français de fiabilité - ECPv6.15.17.1//NONSGML v1.0//EN
CALSCALE:GREGORIAN
METHOD:PUBLISH
X-ORIGINAL-URL:https://www.cff-fiabilite.fr
X-WR-CALDESC:Évènements pour Centre français de fiabilité
REFRESH-INTERVAL;VALUE=DURATION:PT1H
X-Robots-Tag:noindex
X-PUBLISHED-TTL:PT1H
BEGIN:VTIMEZONE
TZID:Europe/Paris
BEGIN:DAYLIGHT
TZOFFSETFROM:+0100
TZOFFSETTO:+0200
TZNAME:CEST
DTSTART:20230326T010000
END:DAYLIGHT
BEGIN:STANDARD
TZOFFSETFROM:+0200
TZOFFSETTO:+0100
TZNAME:CET
DTSTART:20231029T010000
END:STANDARD
BEGIN:DAYLIGHT
TZOFFSETFROM:+0100
TZOFFSETTO:+0200
TZNAME:CEST
DTSTART:20240331T010000
END:DAYLIGHT
BEGIN:STANDARD
TZOFFSETFROM:+0200
TZOFFSETTO:+0100
TZNAME:CET
DTSTART:20241027T010000
END:STANDARD
BEGIN:DAYLIGHT
TZOFFSETFROM:+0100
TZOFFSETTO:+0200
TZNAME:CEST
DTSTART:20250330T010000
END:DAYLIGHT
BEGIN:STANDARD
TZOFFSETFROM:+0200
TZOFFSETTO:+0100
TZNAME:CET
DTSTART:20251026T010000
END:STANDARD
END:VTIMEZONE
BEGIN:VEVENT
DTSTART;TZID=Europe/Paris:20240603T080000
DTEND;TZID=Europe/Paris:20240607T170000
DTSTAMP:20260420T233838
CREATED:20231204T142615Z
LAST-MODIFIED:20231204T142615Z
UID:3941-1717401600-1717779600@www.cff-fiabilite.fr
SUMMARY:19e Atelier ANADEF
DESCRIPTION:Tous les deux ans\, l’ANADEF organise un Atelier de travail et d’échanges entre professionnels en partenariat avec ADERA. Un programme de FORMATION de haut niveau est proposé\, il traite des évolutions technologiques les plus récentes des composants électroniques et de leurs mécanismes de défaillance. \n\nLa structure de l’Atelier s’articulera toujours autour des trois piliers que sont les sessions\, les tutoriels et les micro-ateliers. \nLes thèmes classiques de l’analyse de défaillance seront abordés\, et de nouvelles réflexions feront leur entrée\, notamment sur l’apport de l’IA dans les analyses\, l’impact des normes dans la réalisation des expertises ou encore les processus de fabrication des composants de puissance. \nLes micro-ateliers\, toujours basés sur l’échange autour de présentations courtes ou de questions\, voient leur nombre augmenter afin d’aborder toujours plus de sujets. Les tutoriels seront également au rendez-vous et permettront à nouveau de rendre l’ATELIER éligible au titre de la formation. Ils permettent de rafraichir la mémoire aux plus experts\, reprennent à la fois les bases de notre métier pour les nouveaux venus ou s’étendent à des sujets connexes. \n  \n\nDétail et programme : cliquez sur le lien \nInscription : voir sur la page ANADEF \nLieu : Seignosse -Hossegor (Landes)\, France
URL:https://www.cff-fiabilite.fr/evenements/19e-atelier-anadef/
LOCATION:BELAMBRA Seignosse-Hossegor\, Les Tuquets\, Seignosse-Hossegor\, 40510\, France
CATEGORIES:relayé par le CFF
END:VEVENT
BEGIN:VEVENT
DTSTART;VALUE=DATE:20240618
DTEND;VALUE=DATE:20240621
DTSTAMP:20260420T233838
CREATED:20230517T130243Z
LAST-MODIFIED:20231204T140646Z
UID:3688-1718668800-1718927999@www.cff-fiabilite.fr
SUMMARY:IMAPS - 10th MiNaPad Forum
DESCRIPTION:MiNaPAD is a 2 days conference with an exhibition. The objective of this event is to reinforce the design community (which constitutes the largest share of the semiconductor community in Europe) and the assembly and packaging community: \n\nparallel technical sessions\nan exhibition\nadditional  technical events (June 19\, 2023)\n\n\n\n\n\n\n\n\n\n\nMiNaPAD est une conférence de 2 jours avec une exposition. L’objectif de cet événement est de renforcer la communauté du design (qui constitue la plus grande part de la communauté des semi-conducteurs en Europe) et la communauté de l’assemblage et de l’emballage :\n\nSessions techniques parallèles\nUne exposition\nEvénements techniques supplémentaires (19 juin 2023)
URL:https://www.cff-fiabilite.fr/evenements/imaps-minapad-forum/
LOCATION:Centre de congrès du WTC Grenoble\, 5 - 7\, place Robert Schuman\, Grenoble\, 38000
CATEGORIES:relayé par le CFF
ORGANIZER;CN="IMAPS":MAILTO:imaps.france@orange.fr
END:VEVENT
END:VCALENDAR