BEGIN:VCALENDAR
VERSION:2.0
PRODID:-//Centre français de fiabilité - ECPv6.15.17.1//NONSGML v1.0//EN
CALSCALE:GREGORIAN
METHOD:PUBLISH
X-WR-CALNAME:Centre français de fiabilité
X-ORIGINAL-URL:https://www.cff-fiabilite.fr
X-WR-CALDESC:Évènements pour Centre français de fiabilité
REFRESH-INTERVAL;VALUE=DURATION:PT1H
X-Robots-Tag:noindex
X-PUBLISHED-TTL:PT1H
BEGIN:VTIMEZONE
TZID:Europe/Paris
BEGIN:DAYLIGHT
TZOFFSETFROM:+0100
TZOFFSETTO:+0200
TZNAME:CEST
DTSTART:20230326T010000
END:DAYLIGHT
BEGIN:STANDARD
TZOFFSETFROM:+0200
TZOFFSETTO:+0100
TZNAME:CET
DTSTART:20231029T010000
END:STANDARD
BEGIN:DAYLIGHT
TZOFFSETFROM:+0100
TZOFFSETTO:+0200
TZNAME:CEST
DTSTART:20240331T010000
END:DAYLIGHT
BEGIN:STANDARD
TZOFFSETFROM:+0200
TZOFFSETTO:+0100
TZNAME:CET
DTSTART:20241027T010000
END:STANDARD
BEGIN:DAYLIGHT
TZOFFSETFROM:+0100
TZOFFSETTO:+0200
TZNAME:CEST
DTSTART:20250330T010000
END:DAYLIGHT
BEGIN:STANDARD
TZOFFSETFROM:+0200
TZOFFSETTO:+0100
TZNAME:CET
DTSTART:20251026T010000
END:STANDARD
END:VTIMEZONE
BEGIN:VEVENT
DTSTART;TZID=Europe/Paris:20240422T080000
DTEND;TZID=Europe/Paris:20240426T170000
DTSTAMP:20260421T024753
CREATED:20231204T141622Z
LAST-MODIFIED:20231204T141622Z
UID:3938-1713772800-1714150800@www.cff-fiabilite.fr
SUMMARY:Ecole thématique FIABSÛRF
DESCRIPTION:THÉMATIQUES ET OBJECTIFS \nLes thèmes de recherche de cette école ambitionnent de répondre aux grands défis sociétaux : « Une gestion de l’énergie propre\, sûre et efficace » dans différents contextes tels que celui de la « Mobilité des systèmes urbains durables ». Nos objectifs s’articulent autour de deux verrous scientifiques complémentaires : appréhender l’évaluation de la fiabilité des nouvelles briques technologiques et développer des méthodologies de surveillance et de prise en charge de la défaillance dans les convertisseurs d’électronique de puissance. \nLa construction du programme de ces journées pédagogiques a été guidée par une ambition de couvrir un domaine d’expertises transdisciplinaires/pluridisciplinaires en électronique de puissance. \n\nTechnologies des composants\nModèles de vieillissement\nDiagnostic\, pronostic et protection des composants\nSécurisation\, gestion des pannes et reconfiguration des convertisseurs\n\nL’école sera articulée autour de cours magistraux (CM)\, de travaux dirigés (TD) et d’ateliers/table ronde. \nCOMITÉ SCIENTIFIQUE ET D’ORGANISATION \n\n\n\n\n\nMounira Bouarroudj (SATIE)\nLaurent Dupont (SATIE)\nMarie-Laure Locatelli (Laplace)\nFrédéric Richardeau (Laplace)\nLoïc Théolier (IMS)\nDavid Trémouilles (LAAS-CNRS)\nPascal Venet (Ampère)
URL:https://www.cff-fiabilite.fr/evenements/ecole-thematique-fiabsurf/
LOCATION:Hyères\, Provence-Alpes-Côte d’Azur\, FR  Hôtel Club Igesa de “Porquerolles”\, Hôtel Club Igesa de "Porquerolles"\, Hyères\, 83400\, France
CATEGORIES:relayé par le CFF
ATTACH;FMTTYPE=image/jpeg:https://www.cff-fiabilite.fr/wp-content/uploads/sites/12/2020/10/seeds.jpg
END:VEVENT
END:VCALENDAR