BEGIN:VCALENDAR
VERSION:2.0
PRODID:-//Centre français de fiabilité - ECPv6.15.17.1//NONSGML v1.0//EN
CALSCALE:GREGORIAN
METHOD:PUBLISH
X-ORIGINAL-URL:https://www.cff-fiabilite.fr
X-WR-CALDESC:Évènements pour Centre français de fiabilité
REFRESH-INTERVAL;VALUE=DURATION:PT1H
X-Robots-Tag:noindex
X-PUBLISHED-TTL:PT1H
BEGIN:VTIMEZONE
TZID:Europe/Paris
BEGIN:DAYLIGHT
TZOFFSETFROM:+0100
TZOFFSETTO:+0200
TZNAME:CEST
DTSTART:20230326T010000
END:DAYLIGHT
BEGIN:STANDARD
TZOFFSETFROM:+0200
TZOFFSETTO:+0100
TZNAME:CET
DTSTART:20231029T010000
END:STANDARD
BEGIN:DAYLIGHT
TZOFFSETFROM:+0100
TZOFFSETTO:+0200
TZNAME:CEST
DTSTART:20240331T010000
END:DAYLIGHT
BEGIN:STANDARD
TZOFFSETFROM:+0200
TZOFFSETTO:+0100
TZNAME:CET
DTSTART:20241027T010000
END:STANDARD
BEGIN:DAYLIGHT
TZOFFSETFROM:+0100
TZOFFSETTO:+0200
TZNAME:CEST
DTSTART:20250330T010000
END:DAYLIGHT
BEGIN:STANDARD
TZOFFSETFROM:+0200
TZOFFSETTO:+0100
TZNAME:CET
DTSTART:20251026T010000
END:STANDARD
END:VTIMEZONE
BEGIN:VEVENT
DTSTART;VALUE=DATE:20240131
DTEND;VALUE=DATE:20240203
DTSTAMP:20260421T063946
CREATED:20230517T130043Z
LAST-MODIFIED:20231204T141022Z
UID:3685-1706659200-1706918399@www.cff-fiabilite.fr
SUMMARY:IMAPS - 17th Micropackaging and Thermal Management Workshop
DESCRIPTION:The Workshop will present improvements in thermal management materials\, components and systems\, to provide innovative packaging and cooling solutions for highly integrated power\, RF\, microwave and other devices and sub-systems. \nIncreases in functionality\, complexity\, miniaturisation\, operating temperature and power output will require advances in thermal solutions at many levels\, for military\, aerospace\, consumer and industrial systems. \nIndustry transition to SiC and GaN devices allows higher operating temperatures with higher heat flux but also greater reliability; these trends also require improvements and changes in packaging and thermal materials. \nThermal management has been clearly identified\, in industry technology roadmaps worldwide\, as a crucial constraint in packaging at all levels. \n\n\n\n\n\n\n\n\n\n\nL’atelier présentera des améliorations dans les matériaux\, les composants et les systèmes de gestion thermique\, afin de fournir des solutions innovantes d’emballage et de refroidissement pour les dispositifs et sous-systèmes d’alimentation\, RF\, micro-ondes et autres hautement intégrés.\nL’augmentation de la fonctionnalité\, de la complexité\, de la miniaturisation\, de la température de fonctionnement et de la puissance de sortie nécessitera des avancées dans les solutions thermiques à de nombreux niveaux\, pour les systèmes militaires\, aérospatiaux\, grand public et industriels.\nLa transition de l’industrie vers les dispositifs SiC et GaN permet des températures de fonctionnement plus élevées avec un flux de chaleur plus élevé\, mais aussi une plus grande fiabilité ;\nCes tendances nécessitent également des améliorations et des changements dans les emballages et les matériaux thermiques.\nLa gestion thermique a été clairement identifiée\, dans les feuilles de route technologiques de l’industrie à travers le monde\, comme une contrainte cruciale dans l’emballage à tous les niveaux.
URL:https://www.cff-fiabilite.fr/evenements/imaps-micropackaging-and-thermal-management-workshop/
LOCATION:La Rochelle
CATEGORIES:relayé par le CFF
ORGANIZER;CN="IMAPS":MAILTO:imaps.france@orange.fr
END:VEVENT
END:VCALENDAR