BEGIN:VCALENDAR
VERSION:2.0
PRODID:-//Centre français de fiabilité - ECPv6.15.17.1//NONSGML v1.0//EN
CALSCALE:GREGORIAN
METHOD:PUBLISH
X-ORIGINAL-URL:https://www.cff-fiabilite.fr
X-WR-CALDESC:Évènements pour Centre français de fiabilité
REFRESH-INTERVAL;VALUE=DURATION:PT1H
X-Robots-Tag:noindex
X-PUBLISHED-TTL:PT1H
BEGIN:VTIMEZONE
TZID:Europe/Paris
BEGIN:DAYLIGHT
TZOFFSETFROM:+0100
TZOFFSETTO:+0200
TZNAME:CEST
DTSTART:20220327T010000
END:DAYLIGHT
BEGIN:STANDARD
TZOFFSETFROM:+0200
TZOFFSETTO:+0100
TZNAME:CET
DTSTART:20221030T010000
END:STANDARD
BEGIN:DAYLIGHT
TZOFFSETFROM:+0100
TZOFFSETTO:+0200
TZNAME:CEST
DTSTART:20230326T010000
END:DAYLIGHT
BEGIN:STANDARD
TZOFFSETFROM:+0200
TZOFFSETTO:+0100
TZNAME:CET
DTSTART:20231029T010000
END:STANDARD
BEGIN:DAYLIGHT
TZOFFSETFROM:+0100
TZOFFSETTO:+0200
TZNAME:CEST
DTSTART:20240331T010000
END:DAYLIGHT
BEGIN:STANDARD
TZOFFSETFROM:+0200
TZOFFSETTO:+0100
TZNAME:CET
DTSTART:20241027T010000
END:STANDARD
END:VTIMEZONE
BEGIN:VEVENT
DTSTART;TZID=Europe/Paris:20230606T140000
DTEND;TZID=Europe/Paris:20230606T173000
DTSTAMP:20260421T181122
CREATED:20230503T085127Z
LAST-MODIFIED:20230503T090211Z
UID:3663-1686060000-1686072600@www.cff-fiabilite.fr
SUMMARY:IEEE EPS France - JOURNEE TECHNIQUE - Action Concertée Packaging (AC-PAC) du PEPR électronique
DESCRIPTION:Objectif : Présentation de l’Action Concertée Packaging (ACPAC) et rencontre des acteurs Français \nProgramme : ici \nEvènement organisé la veille de la conférence IMAPS MINAPAD -7 & 8 juin 2023 (voir Agenda) \nWTC / Congress center\n5 -7 \, place Robert Schuman\n38025 Grenoble / FRANCE \nInscription gratuite\nContacter: Jean-Charles Souriau jcsouriau@cea.fr
URL:https://www.cff-fiabilite.fr/evenements/journee-technique-action-concertee-packaging-ac-pac-du-pepr-electronique/
LOCATION:Centre de congrès du WTC Grenoble\, 5 - 7\, place Robert Schuman\, Grenoble\, 38000
CATEGORIES:relayé par le CFF
END:VEVENT
BEGIN:VEVENT
DTSTART;VALUE=DATE:20230607
DTEND;VALUE=DATE:20230609
DTSTAMP:20260421T181122
CREATED:20230417T093045Z
LAST-MODIFIED:20230421T125555Z
UID:3632-1686096000-1686268799@www.cff-fiabilite.fr
SUMMARY:IMAPS - MiNaPAD Forum 2023
DESCRIPTION:10 th Micro/Nano-Electronics Packaging and Assembly\, Design and Manufacturing Forum \nMiNaPAD\, the « Micro/Nano-Electronics Packaging & Assembly\, Design and Manufacturing Forum » will be held in Grenoble\, France\, at the WTC congress center on June 7-8\, 2023. \nMiNaPAD is a 2 days conference with an exhibition. The objective of this event is to reinforce the design community (which constitutes the largest share of the semiconductor community in Europe) and the assembly and packaging community: \n\nparallel technical sessions\nan exhibition\nadditional  technical events (June 6\, 2023)\n\n\n  \n\n\nWho We Are…\n\n\n\n\nIMAPS – International Microelectronics Assembly and Packaging Society – is a global community of microelectronic related engineers\, scientists\, manufacturers\, end-users and supply chain companies. \nThe Society aims to support the development and growth of the Microelectronics and related industries\, and to aid the transfer of knowledge and information. This is achieved through networking\, seminars\, workshops\, short courses\, publications\, webinars and websites. \nMembers benefit from access to business networking and events at a reduced rate; technical information & receive society newsletters and other publications. IMAPS is the largest Microelectronic Packaging Society in the World ! \nIMAPS-France (French chapter) is a non-profit organization with 110 members in 2021 from 110 companies or institutes in France and neighbouring countries (Belgium\, Switzerland\, Morocco\, Spain\, Portugal). IMAPS-France is one out of the 30 IMAPS chapters throughout the World. \nTo that end\, we organize events each year. In 2022-2023\, in French OR English language\, these are namely: \n\nMINaPAD 2023   7th & 8th June 2023\nPOWER 2023      30th November 2023\n\nWe will be glad to see you join us for one of these events.
URL:https://www.cff-fiabilite.fr/evenements/impas-minapad-forum-2023/
LOCATION:Centre de congrès du WTC Grenoble\, 5 - 7\, place Robert Schuman\, Grenoble\, 38000
CATEGORIES:relayé par le CFF
ORGANIZER;CN="IMAPS":MAILTO:imaps.france@orange.fr
END:VEVENT
END:VCALENDAR