BEGIN:VCALENDAR
VERSION:2.0
PRODID:-//Centre français de fiabilité - ECPv6.15.17.1//NONSGML v1.0//EN
CALSCALE:GREGORIAN
METHOD:PUBLISH
X-ORIGINAL-URL:https://www.cff-fiabilite.fr
X-WR-CALDESC:Évènements pour Centre français de fiabilité
REFRESH-INTERVAL;VALUE=DURATION:PT1H
X-Robots-Tag:noindex
X-PUBLISHED-TTL:PT1H
BEGIN:VTIMEZONE
TZID:Europe/Paris
BEGIN:DAYLIGHT
TZOFFSETFROM:+0100
TZOFFSETTO:+0200
TZNAME:CEST
DTSTART:20210328T010000
END:DAYLIGHT
BEGIN:STANDARD
TZOFFSETFROM:+0200
TZOFFSETTO:+0100
TZNAME:CET
DTSTART:20211031T010000
END:STANDARD
BEGIN:DAYLIGHT
TZOFFSETFROM:+0100
TZOFFSETTO:+0200
TZNAME:CEST
DTSTART:20220327T010000
END:DAYLIGHT
BEGIN:STANDARD
TZOFFSETFROM:+0200
TZOFFSETTO:+0100
TZNAME:CET
DTSTART:20221030T010000
END:STANDARD
BEGIN:DAYLIGHT
TZOFFSETFROM:+0100
TZOFFSETTO:+0200
TZNAME:CEST
DTSTART:20230326T010000
END:DAYLIGHT
BEGIN:STANDARD
TZOFFSETFROM:+0200
TZOFFSETTO:+0100
TZNAME:CET
DTSTART:20231029T010000
END:STANDARD
END:VTIMEZONE
BEGIN:VEVENT
DTSTART;VALUE=DATE:20221115
DTEND;VALUE=DATE:20221116
DTSTAMP:20260422T050631
CREATED:20220906T132702Z
LAST-MODIFIED:20220906T132733Z
UID:3256-1668470400-1668556799@www.cff-fiabilite.fr
SUMMARY:6ème rencontre PHM France - Bordeaux
DESCRIPTION:Le comité de pilotage de la communauté PHM France a le plaisir de vous annoncer la tenue de la 6ème rencontre sur le thème du Prognostics and Health Management\, le mardi 15 novembre à Bordeaux.  \nVous serez accueillis par Serma Technologies\, sur leur site de Pessac\, grâce à M. Francis Dupouy\, Directeur Général SERMA Technologies & Sciences et Surface. \nLors de cette journée : \n\nnous aurons l’honneur d’accueillir Professeur Enrico Zio\, du Politecnico di  Milano. Enrico Zio est un spécialiste mondialement reconnu sur le thème du PHM au sens large\, notamment fellow et distinguished lecturer de la PHM Society. A travers la conférence qu’il nous fera le plaisir de nous donner\, il nous partagera l’état de l’art scientifique du domaine et nous donnera sa vision et ses recommandations pour la mise en œuvre industrielle du PHM\nnotre session d’échange sera cette fois-ci sur le thème « Jumeau numérique : quel intérêt pour le PHM ?» \nenfin\, comme à chaque rencontre\, nous avons besoin de vous pour partager des contenus et en appelons à vos contributions. Nous rappelons que cette rencontre n’est pas un congrès ; aussi il n’est pas indispensable de présenter des sujets particulièrement innovants ou totalement aboutis (même s’ils sont les bienvenus) : présenter des sujets en cours ou même à l’état de projet peut aussi être intéressant\, et surtout l’opportunité de recueillir des idées et conseils des participants. Les retours d’expérience sont les bienvenus aussi. Nous attendons vos propositions !\n\nUne invitation va vous être envoyée. Des détails (ordre du jour\, plan d’accès etc.) y seront ajoutés ultérieurement mais\, à des fin d’organisation\, veuillez s’il vous plaît y répondre dès que possible. \nPour le comité de pilotage PHM France\, \n\n\n\nAugustin Cathignol\, PhD\naugustin.cathignol@se.com\n\n\n\nPrincipal Data Scientist\nSchneider Digital / Artificial Intelligence Hub\nSchneider Electric\n160 Avenue des Martyrs\, 38000 Grenoble\, France
URL:https://www.cff-fiabilite.fr/evenements/6eme-rencontre-phm-france-bordeaux/
LOCATION:SERMA à BORDEAUX\, 14 Rue Galilée\, Pessac\, 33600\, France
CATEGORIES:relayé par le CFF
END:VEVENT
END:VCALENDAR