BEGIN:VCALENDAR
VERSION:2.0
PRODID:-//Centre français de fiabilité - ECPv6.15.17.1//NONSGML v1.0//EN
CALSCALE:GREGORIAN
METHOD:PUBLISH
X-WR-CALNAME:Centre français de fiabilité
X-ORIGINAL-URL:https://www.cff-fiabilite.fr
X-WR-CALDESC:Évènements pour Centre français de fiabilité
REFRESH-INTERVAL;VALUE=DURATION:PT1H
X-Robots-Tag:noindex
X-PUBLISHED-TTL:PT1H
BEGIN:VTIMEZONE
TZID:Europe/Paris
BEGIN:DAYLIGHT
TZOFFSETFROM:+0100
TZOFFSETTO:+0200
TZNAME:CEST
DTSTART:20210328T010000
END:DAYLIGHT
BEGIN:STANDARD
TZOFFSETFROM:+0200
TZOFFSETTO:+0100
TZNAME:CET
DTSTART:20211031T010000
END:STANDARD
BEGIN:DAYLIGHT
TZOFFSETFROM:+0100
TZOFFSETTO:+0200
TZNAME:CEST
DTSTART:20220327T010000
END:DAYLIGHT
BEGIN:STANDARD
TZOFFSETFROM:+0200
TZOFFSETTO:+0100
TZNAME:CET
DTSTART:20221030T010000
END:STANDARD
BEGIN:DAYLIGHT
TZOFFSETFROM:+0100
TZOFFSETTO:+0200
TZNAME:CEST
DTSTART:20230326T010000
END:DAYLIGHT
BEGIN:STANDARD
TZOFFSETFROM:+0200
TZOFFSETTO:+0100
TZNAME:CET
DTSTART:20231029T010000
END:STANDARD
END:VTIMEZONE
BEGIN:VEVENT
DTSTART;TZID=Europe/Paris:20221006T130000
DTEND;TZID=Europe/Paris:20221006T180000
DTSTAMP:20260422T063430
CREATED:20220905T074444Z
LAST-MODIFIED:20220905T074444Z
UID:3251-1665061200-1665079200@www.cff-fiabilite.fr
SUMMARY:Atelier FREECO (GeePs - SATIE)
DESCRIPTION:Fiabilité\, Réparabilité et Eco-conception de l’Electronique de Puissance (FREECO) \nOrganisé par les Laboratoires GeePs et SATIE\, cet atelier vous propose une après-midi d’échanges sur l’électronique en pratique. \n\nRéparation d’appareils électroniques\nFiabilité et modes de défaillance\nEco-conception de l’électronique de puissance (EnPu)\nMétiers de l’EnPu\n\nL’atelier fait intervenir différents acteurs de la filière électronique\, laboratoires du CNRS\, mais aussi industriels et syndicat de la filière : \n\nTanguy PHULPIN (GEEPS)\n Présentation du club de réparation d’appareils électronique de CentraleSupélec\n\nSylvain LEBRAS (Wurth Elektronik)\nBonnes pratiques en réparation d’appareils électroniques\nRosine COQ GERMANICUS (CRISMAT) \nLa fiabilité durant la fabrication d’un composant électronique\nZoubir KHATIR (SATIE) \nPrésentation de l’analyse de défaillance dans les semi-conducteurs\nHicham Maanane (Thalès)\nMaîtriser et prédire les défaillances des composants hyperfréquences de puissance jusqu’à la brique d’émission RADAR\nDemba DIALLO (GEEPS)\n Présentation du diagnostic système pour la fiabilité de l’électronique\nACSIEL Alliance Electronique (ALLIANCE DES COMPOSANTS ET SYSTEMES POUR L’INDUSTRIE ELECTRONIQUE)\n Présentation des besoins industriels sur la fiabilité et l’éco-conception\nJean-Christophe CREBIER (G2ELAB)\nQuestions diverses sur l’éco-conception\n\nEvènement gratuit en présentiel\, sur le site de CentraleSupélec à Gif-Sur-Yvettes. \nPlus de détails ici.
URL:https://www.cff-fiabilite.fr/evenements/atelier-freeco-geeps-satie/
LOCATION:CentraleSupélec\, 3 rue Joliot Curie\, Gif-Sur-Yvettes\, 91192
CATEGORIES:relayé par le CFF
END:VEVENT
BEGIN:VEVENT
DTSTART;VALUE=DATE:20221010
DTEND;VALUE=DATE:20221014
DTSTAMP:20260422T063430
CREATED:20211202T132947Z
LAST-MODIFIED:20220208T093305Z
UID:2650-1665360000-1665705599@www.cff-fiabilite.fr
SUMMARY:23e éd. du congrès λμ (Lambda Mu)
DESCRIPTION:Le congrès λμ (Lambda Mu)\, événement international francophone dédié à la maîtrise des risques et à la sûreté de fonctionnement organisé par l’Institut de Maîtrise des Risques revient en 2022 pour sa 23e édition. Cette nouvelle édition placée sous le thème « INNOVATIONS ET MAÎTRISE DES RISQUES POUR UN AVENIR DURABLE » se veut un carrefour de toutes les expertises et des métiers de la maîtrise des risques. Le congrès s’adresse à tous les industriels\, aux entités de recherche tant fondamentale que technologique\, aux donneurs d’ordres tant privés que publics\, aux startups\, aux universitaires et notamment aux étudiants de masters. \nLieu : EDF Lab Paris-Saclay\, France \nPour plus d’information : https://www.imdr.eu/818_p_51436/le-congres-lambda-mu.html
URL:https://www.cff-fiabilite.fr/evenements/23e-ed-du-congres-%ce%bb%ce%bc-lambda-mu/
CATEGORIES:relayé par le CFF
ATTACH;FMTTYPE=image/jpeg:https://www.cff-fiabilite.fr/wp-content/uploads/sites/12/2020/11/IMdR-Logos.jpg
END:VEVENT
END:VCALENDAR