BEGIN:VCALENDAR
VERSION:2.0
PRODID:-//Centre français de fiabilité - ECPv6.15.17.1//NONSGML v1.0//EN
CALSCALE:GREGORIAN
METHOD:PUBLISH
X-WR-CALNAME:Centre français de fiabilité
X-ORIGINAL-URL:https://www.cff-fiabilite.fr
X-WR-CALDESC:Évènements pour Centre français de fiabilité
REFRESH-INTERVAL;VALUE=DURATION:PT1H
X-Robots-Tag:noindex
X-PUBLISHED-TTL:PT1H
BEGIN:VTIMEZONE
TZID:Europe/Paris
BEGIN:DAYLIGHT
TZOFFSETFROM:+0100
TZOFFSETTO:+0200
TZNAME:CEST
DTSTART:20210328T010000
END:DAYLIGHT
BEGIN:STANDARD
TZOFFSETFROM:+0200
TZOFFSETTO:+0100
TZNAME:CET
DTSTART:20211031T010000
END:STANDARD
BEGIN:DAYLIGHT
TZOFFSETFROM:+0100
TZOFFSETTO:+0200
TZNAME:CEST
DTSTART:20220327T010000
END:DAYLIGHT
BEGIN:STANDARD
TZOFFSETFROM:+0200
TZOFFSETTO:+0100
TZNAME:CET
DTSTART:20221030T010000
END:STANDARD
BEGIN:DAYLIGHT
TZOFFSETFROM:+0100
TZOFFSETTO:+0200
TZNAME:CEST
DTSTART:20230326T010000
END:DAYLIGHT
BEGIN:STANDARD
TZOFFSETFROM:+0200
TZOFFSETTO:+0100
TZNAME:CET
DTSTART:20231029T010000
END:STANDARD
END:VTIMEZONE
BEGIN:VEVENT
DTSTART;TZID=Europe/Paris:20220530T080000
DTEND;TZID=Europe/Paris:20220603T170000
DTSTAMP:20260422T122839
CREATED:20220325T111140Z
LAST-MODIFIED:20220325T111140Z
UID:2929-1653897600-1654275600@www.cff-fiabilite.fr
SUMMARY:2e Ecole Thématique GDR SEEDS FiabSurf
DESCRIPTION:2ème École Thématique CNRS 2022\nFiabilité et Sûreté de Fonctionnement \nDe la physique d’endommagement des composants de puissance à la sûreté de fonctionnement des convertisseurs statiques \nOrganisée par le Groupe de Travail FiabSurf du GdR SEEDS\, cette école couvre un champ d’expertises pluridisciplinaires en électronique de puissance (EP)\, lequel s’étend à une gamme d’applications très large et stratégique pour la transition énergétique. \nLa fiabilité des composants de puissance (actifs et passifs) et la sûreté de fonctionnement sous contraintes multiples des circuits d’EP associés\, sont des enjeux majeurs à traiter. Des connaissances\, méthodes et outils nécessaires à leur étude font l’objet de cette école. Les modules de formation seront dispensés par des chercheurs et industriels experts. \nTélécharger la fiche ici.
URL:https://www.cff-fiabilite.fr/evenements/2e-ecole-thematique-gdr-seeds-fiabsurf/
LOCATION:Domaine du Mas de Saboth 46090 Saint Géry – Vers\, Domaine du Mas de Saboth\, Saint Géry - Vers\, 46090\, France
CATEGORIES:relayé par le CFF
ATTACH;FMTTYPE=image/jpeg:https://www.cff-fiabilite.fr/wp-content/uploads/sites/12/2020/10/seeds.jpg
END:VEVENT
BEGIN:VEVENT
DTSTART;TZID=Europe/Paris:20220602T093000
DTEND;TZID=Europe/Paris:20220602T160000
DTSTAMP:20260422T122839
CREATED:20220419T160023Z
LAST-MODIFIED:20220419T160023Z
UID:2940-1654162200-1654185600@www.cff-fiabilite.fr
SUMMARY:Journée Inter GDR - Diagnostic/pronostic des systèmes industriels
DESCRIPTION:Date : Cet évènement aura lieu le 2 juin 2022 de 09:30 à 16:00 \nLieu : Amphi Herpin\, Bâtiment Esclangon\, Campus de Jussieu \nOrganisateurs : \n– Claude DELPHA\, L2S\, Université Paris Saclay\, claude.delpha@centralesupelec.fr\n– Raphael ROMARY\, LSEE\, Université d’Artois\, raphael.romary@univ-artois.fr\n– Moussa BOUKHNIFER\, LCOMS\, Université de Lorraine\, moussa.boukhnifer@univ-lorraine.fr \nContexte\nDe nos jours\, les systèmes industriels ont des caractéristiques de plus en plus exigeantes pour satisfaire à des critères de sureté de fonctionnement de plus en plus strictes (fiabilité\, maintenabilité\, sécurité\, …). Dans ce cadre\, la détection et le diagnostic de défauts (ou anomalies) est une étape déterminante pour limiter les pertes économiques mais également les évènements tragiques conséquents à la présence d’un défaut non détecté ou mal estimé\, mal identifié/localisé voir même encore dont la prédiction de l’évolution est inadéquate (pronostic). Par exemple\, les secteurs du transport\, de la production et la gestion de l’énergie\, des communications\, …\, restent très attentifs à des solutions proposés dans ce domaine (diagnostic de machines électriques\, de convertisseurs\, de batteries\, de panneaux photovoltaïques\, de systèmes éolien/hydrolien\, de roulements\, de contacts\, composants électroniques\, de câbles\, …). Dans ce cadre\, de nombreux travaux sont développés dans le domaine du diagnostic et même du pronostic par les communautés scientifiques différentes\, soit sur des aspects méthodologiques (Traitement de l’information\, signal et image)\, soit au travers des applications spécifiques en fonction du secteur d’application dominant (Electricité\, électronique\, mécanique\, …). Le point commun de tous ces acteurs est qu’ils développent\, mettent en œuvres des outils de traitement du signal et des images\, des outils statistiques ou de Machine Learning pour proposer des solutions de diagnostic/pronostic efficaces\, robustes et fiables. Par exemple\, un des challenges scientifiques important est de proposer des solutions pour la détection et l’identification des défauts le plus tôt possible (alors que son effet sur le système est très faible et sans conséquence majeure) permettant de mettre en place des solutions suivi (monitoring) et de maintenance conditionnelles en fonction de son évolution. \nObjectifs\nLa thématique du Diagnostic/Pronostic faisant appel à des aspects pluridisciplinaires avec un lien fort entre les sciences « fondamentales » et les sciences plus appliquées ou expérimentales\, nous proposons l’organisation d’une journée inter GDR Seeds-Isis de valorisation des recherches dans ce domaine. \nNous vous rappelons que\, afin de garantir l’accès de tous les inscrits aux salles de réunion\, l’inscription aux réunions est gratuite mais obligatoire. \nInscription : cliquez ici.    Capacité de la salle : 50 personnes.
URL:https://www.cff-fiabilite.fr/evenements/journee-inter-gdr-diagnostic-pronostic-des-systemes-industriels/
LOCATION:Amphi Herpin\, Bâtiment Esclangon\, Campus de Jussieu
CATEGORIES:relayé par le CFF
END:VEVENT
BEGIN:VEVENT
DTSTART;VALUE=DATE:20220613
DTEND;VALUE=DATE:20220618
DTSTAMP:20260422T122839
CREATED:20210705T125446Z
LAST-MODIFIED:20220421T142830Z
UID:1483-1655078400-1655510399@www.cff-fiabilite.fr
SUMMARY:18e Atelier ANADEF
DESCRIPTION:Tous les deux ans\, l’ANADEF organise un Atelier de travail et d’échanges entre professionnels en partenariat avec ADERA. Un programme de FORMATION de haut niveau est proposé\, il traite des évolutions technologiques les plus récentes des composants électroniques et de leurs mécanismes de défaillance. \nDétail et programme : cliquez sur le lien \nInscription : voir sur la page ANADEF \nLieu : Seignosse -Hossegor (Landes)\, France
URL:https://www.cff-fiabilite.fr/evenements/anadef/
CATEGORIES:relayé par le CFF
ATTACH;FMTTYPE=image/png:https://www.cff-fiabilite.fr/wp-content/uploads/sites/12/2021/11/ANADEF-2.png
END:VEVENT
END:VCALENDAR