BEGIN:VCALENDAR
VERSION:2.0
PRODID:-//Centre français de fiabilité - ECPv6.15.17.1//NONSGML v1.0//EN
CALSCALE:GREGORIAN
METHOD:PUBLISH
X-WR-CALNAME:Centre français de fiabilité
X-ORIGINAL-URL:https://www.cff-fiabilite.fr
X-WR-CALDESC:Évènements pour Centre français de fiabilité
REFRESH-INTERVAL;VALUE=DURATION:PT1H
X-Robots-Tag:noindex
X-PUBLISHED-TTL:PT1H
BEGIN:VTIMEZONE
TZID:Europe/Paris
BEGIN:DAYLIGHT
TZOFFSETFROM:+0100
TZOFFSETTO:+0200
TZNAME:CEST
DTSTART:20210328T010000
END:DAYLIGHT
BEGIN:STANDARD
TZOFFSETFROM:+0200
TZOFFSETTO:+0100
TZNAME:CET
DTSTART:20211031T010000
END:STANDARD
BEGIN:DAYLIGHT
TZOFFSETFROM:+0100
TZOFFSETTO:+0200
TZNAME:CEST
DTSTART:20220327T010000
END:DAYLIGHT
BEGIN:STANDARD
TZOFFSETFROM:+0200
TZOFFSETTO:+0100
TZNAME:CET
DTSTART:20221030T010000
END:STANDARD
BEGIN:DAYLIGHT
TZOFFSETFROM:+0100
TZOFFSETTO:+0200
TZNAME:CEST
DTSTART:20230326T010000
END:DAYLIGHT
BEGIN:STANDARD
TZOFFSETFROM:+0200
TZOFFSETTO:+0100
TZNAME:CET
DTSTART:20231029T010000
END:STANDARD
END:VTIMEZONE
BEGIN:VEVENT
DTSTART;TZID=Europe/Paris:20220315T090000
DTEND;TZID=Europe/Paris:20220315T170000
DTSTAMP:20260422T170831
CREATED:20220111T082046Z
LAST-MODIFIED:20220208T094241Z
UID:2721-1647334800-1647363600@www.cff-fiabilite.fr
SUMMARY:Séminaire "PowerGan : vers une filière française"
DESCRIPTION:Séminaire “PowerGan : vers une filière française’’\, le 15 mars 2022 \nDistanciel & présentiel : Paris\, Espace Van Gogh 62 quai de la Rapée 75012 PARIS – Métro Gare de Lyon \nA l’heure ou la maturité technologique est enfin suffisante pour garantir les conditions d’une industrialisation\, les IRT Nanoelec (*) et Saint-Exupéry et l’lTE Vedecom proposent de réunir l’ensemble de la communauté académique et industrielle du GaN\, pour échanger sur les thèmes suivants : \n\nStructuration d’une filière à l’initiative de STMicroelectronics et des apports du programme dédié de l’IRT Nanoelec.\nPerspectives applicatives et enjeux de R&D\n Initiatives institutionnelles.\n\nPlus d’informations et inscription : https://bit.ly/3slU0qi \n 
URL:https://www.cff-fiabilite.fr/evenements/powergan-vers-une-filiere-francaise/
LOCATION:Espace Van Gogh 62 quai de la Rapée 75012 PARIS\, Espace Van Gogh 62 quai de la Rapée\, PARIS\, 75012\, France
CATEGORIES:relayé par le CFF
ATTACH;FMTTYPE=image/png:https://www.cff-fiabilite.fr/wp-content/uploads/sites/12/2022/02/PowerGaN-Save-the-date-bandeau-VF-blanc-ecriture-jaune.png
END:VEVENT
END:VCALENDAR