BEGIN:VCALENDAR
VERSION:2.0
PRODID:-//Centre français de fiabilité - ECPv6.15.17.1//NONSGML v1.0//EN
CALSCALE:GREGORIAN
METHOD:PUBLISH
X-WR-CALNAME:Centre français de fiabilité
X-ORIGINAL-URL:https://www.cff-fiabilite.fr
X-WR-CALDESC:Évènements pour Centre français de fiabilité
REFRESH-INTERVAL;VALUE=DURATION:PT1H
X-Robots-Tag:noindex
X-PUBLISHED-TTL:PT1H
BEGIN:VTIMEZONE
TZID:Europe/Paris
BEGIN:DAYLIGHT
TZOFFSETFROM:+0100
TZOFFSETTO:+0200
TZNAME:CEST
DTSTART:20200329T010000
END:DAYLIGHT
BEGIN:STANDARD
TZOFFSETFROM:+0200
TZOFFSETTO:+0100
TZNAME:CET
DTSTART:20201025T010000
END:STANDARD
BEGIN:DAYLIGHT
TZOFFSETFROM:+0100
TZOFFSETTO:+0200
TZNAME:CEST
DTSTART:20210328T010000
END:DAYLIGHT
BEGIN:STANDARD
TZOFFSETFROM:+0200
TZOFFSETTO:+0100
TZNAME:CET
DTSTART:20211031T010000
END:STANDARD
BEGIN:DAYLIGHT
TZOFFSETFROM:+0100
TZOFFSETTO:+0200
TZNAME:CEST
DTSTART:20220327T010000
END:DAYLIGHT
BEGIN:STANDARD
TZOFFSETFROM:+0200
TZOFFSETTO:+0100
TZNAME:CET
DTSTART:20221030T010000
END:STANDARD
END:VTIMEZONE
BEGIN:VEVENT
DTSTART;TZID=Europe/Paris:20210901T080000
DTEND;TZID=Europe/Paris:20210901T170000
DTSTAMP:20260423T013553
CREATED:20210705T125354Z
LAST-MODIFIED:20210720T160449Z
UID:1481-1630483200-1630515600@www.cff-fiabilite.fr
SUMMARY:CEEES
DESCRIPTION:Détail et programme prochainement
URL:https://www.cff-fiabilite.fr/evenements/ceees/
CATEGORIES:relayé par le CFF
END:VEVENT
BEGIN:VEVENT
DTSTART;TZID=Europe/Paris:20210919T080000
DTEND;TZID=Europe/Paris:20210923T170000
DTSTAMP:20260423T013553
CREATED:20210705T125258Z
LAST-MODIFIED:20210720T160440Z
UID:1477-1632038400-1632416400@www.cff-fiabilite.fr
SUMMARY:ESREL
DESCRIPTION:Détail et programme prochainement
URL:https://www.cff-fiabilite.fr/evenements/esrel/
CATEGORIES:relayé par le CFF
END:VEVENT
END:VCALENDAR